Workbook

Sheet Tính VT Han
F1: BẢNG GiẢI TRÌNH VẬT TƯ ĐỀ NGHỊ
F2: Xưởng Hàn
C3: Học kỳ : | D3: I | F3: năm học: | G3: 2015 - 2016
C4: Tổng số lớp: | D4: 10 | F4: Tổng số HS: | G4: =M21 -> 490
A6: TT | B6: TÊN VẬT TƯ THIẾT BỊ | E6: Kích | F6: SL | G6: ĐƠN VỊ TÍNH | H6: SL | I6: Tổng | J6: ĐƠN VỊ TÍNH | M6: Khối lượng riêng của sắt: | N6: 7.85
E7: Thước | H7: Dùng | I7: Cộng
A8: 01 | B8: Que hàn | E8: f 4 | G8: lớp | H8: 0.5 | I8: =H8*F8 -> 0 | J8: Thùng | K8: 14 | L8: CĐ-NL1 | M8: 39
A9: 02 | B9: Que hàn | E9: f 3.2 | F9: =D4 -> 10 | G9: lớp | H9: 4 | I9: =H9*F9 -> 40 | J9: Thùng | K9: 14
A10: 03 | B10: Que hàn | E10: f 2.6 | G10: lớp | H10: 0.5 | I10: =H10*F10 -> 0 | J10: Thùng | K10: 14 | L10: CĐ-CK1 | M10: 46
A11: 04 | B11: Thép la | E11: 40x4 | F11: =G4 -> 490 | G11: SV | H11: 4 | I11: =H11*F11 -> 1960 | J11: mét | K11: 14 | L11: CĐ-CK2 | M11: 46
A12: 05 | B12: Thép tấm | E12: 200x400x5 | F12: =G4 -> 490 | G12: SV | H12: 3 | I12: =H12*F12 -> 1470 | J12: kg | K12: 14 | L12: CĐ-CK3 | M12: 43
A13: 06 | B13: Khí argon | F13: =D4 -> 10 | G13: lớp | H13: 0.2 | I13: =H13*F13 -> 2 | J13: chai | K13: 14 | L13: CĐ-CK4 | M13: 44
A14: 07 | B14: Khí CO2 | F14: =D$4 -> 10 | G14: lớp | H14: 1 | I14: =H14*F14 -> 10 | J14: chai | K14: 14
A15: 08 | B15: Điện cực hàn TIG | G15: lớp | H15: 0.2 | I15: =H15*F15 -> 0 | J15: Hộp | K15: 14
A16: 09 | B16: Bec(võ) hàn TIG (sứ) | G16: lớp | H16: 1 | I16: =H16*F16 -> 0 | J16: bộ | K16: 14 | L16: CĐ-O1 | M16: 53
A17: 10 | B17: Bec hàn MIG (đồng) | F17: =D$4 -> 10 | G17: lớp | H17: 1 | I17: =H17*F17 -> 10 | J17: bộ | K17: 14 | L17: CĐ-O2 | M17: 55
A18: 11 | B18: Cuộn dây hàn MIG | E18: Ф 0,8 mm | F18: =D$4 -> 10 | G18: lớp | H18: 2 | I18: =H18*F18 -> 20 | J18: cuộn | K18: 14 | L18: CĐ-O3 | M18: 54
A19: 12 | B19: Xà bông | F19: =D$4 -> 10 | G19: lớp | H19: 0.5 | I19: =H19*F19 -> 5 | J19: kg | K19: 14 | L19: CĐ-O4 | M19: 57
A20: 13 | B20: Vải lau | F20: =D$4 -> 10 | G20: lớp | H20: 0.2 | I20: =H20*F20 -> 2 | J20: kg | K20: 14 | L20: CĐ-O5 | M20: 53
A21: 14 | B21: Búa gỏ sĩ | G21: lớp | H21: 2 | I21: =H21*F21 -> 0 | J21: cái | M21: =SUM(M8:M20) -> 490
A22: 15 | B22: Búa 1kg | F22: =D$4 -> 10 | G22: lớp | H22: 1 | I22: =H22*F22 -> 10 | J22: cái
A23: 16 | B23: Lưỡi dao kéo cát tay | F23: =D$4 -> 10 | I23: =H23*F23 -> 0 | J23: bộ
A24: 17 | B24: Đĩa đá cắt | F24: =D$4 -> 10 | G24: lớp | H24: 0.5 | I24: =H24*F24 -> 5 | J24: cái
A25: 18 | B25: Chổi lúa | F25: =D$4 -> 10 | G25: lớp | H25: 0.5 | I25: =H25*F25 -> 5 | J25: cái
A26: 19 | B26: Cọ vệ sinh | F26: =D$4 -> 10 | G26: lớp | H26: 2 | I26: =H26*F26 -> 20 | J26: cái
A27: 20 | B27: Khóa đồng hồ khí | G27: lớp | I27: =H27*F27 -> 0 | J27: bộ
A28: 21 | B28: Bút lông dầu | F28: =D$4 -> 10 | G28: lớp | H28: 0.5 | I28: =H28*F28 -> 5 | J28: cây
A29: 22 | B29: Tole gò | E29: 0.3x1000 | G29: SV | H29: 0.2 | I29: =H29*F29 -> 0 | J29: mét
A30: 23 | B30: Kéo cắt tole gò | G30: lớp | H30: 5 | I30: =H30*F30 -> 0 | J30: cái
A31: 24 | B31: Kính hàn đen (thủy tinh) | F31: =D$4 -> 10 | G31: lớp | H31: 5 | I31: =H31*F31 -> 50 | J31: cái
A32: 25 | B32: Tuvit bake | E32: F 6 | F32: 2 | H32: 1 | I32: =H32*F32 -> 2 | J32: cái
A33: 26 | B33: Tạp dề da | F33: =D$4 -> 10 | G33: lớp | H33: 2 | I33: =H33*F33 -> 20 | J33: cái
A34: 27 | B34: Mặt nạ hàn điện tử | F34: =D$4 -> 10 | G34: lớp | H34: 0.5 | I34: =H34*F34 -> 5 | J34: cái
A35: 28
A36: 29

Sheet Tinh VT Nguoi
F1: BẢNG GiẢI TRÌNH VẬT TƯ ĐỀ NGHỊ
F2: Xưởng Nguội
C3: Học kỳ : | D3: II | F3: năm học: | G3: 2014 - 2015
D4: (Số lớp: | E4: 14CĐ-NL | F4: 1 | H4: Sĩ số học sinh: | I4: =N15 -> 39
E5: 14CĐ-Ôtô | F5: 5 | I5: =N21 -> 272
E6: 14CĐ-CK | F6: 4 | I6: =N27 -> 179
E7: Tổng số lớp: | F7: =SUM(F4:F6) -> 10 | I7: =SUM(I4:I6) -> 490
A9: TT | B9: TÊN VẬT TƯ THIẾT BỊ | E9: Kích | F9: SL | G9: ĐƠN VỊ TÍNH | H9: SL | I9: Tổng | J9: ĐƠN VỊ TÍNH
E10: Thước | H10: Dùng | I10: Cộng
A11: 01 | B11: Giũa phẳng thô | E11: 30x300 | F11: =I$7 -> 490 | G11: SV | H11: 1 | I11: =H11*F11 -> 490 | J11: cây | M11: CĐ-ĐL1 | N11: 39 | O11: 14 | P11: TC-ĐL1 | Q11: 50
A12: 02 | B12: Giũa phẳng tinh | E12: 30x300 | F12: =I$7 -> 490 | G12: SV | H12: 1 | I12: =H12*F12 -> 490 | J12: cây | M12: CĐ-ĐL2 | P12: TC-ĐL2
A13: 03 | B13: Giũa tròn thô | E13: F12x300 | F13: =I$7 -> 490 | G13: SV | H13: 1 | I13: =H13*F13 -> 490 | J13: cây | M13: CĐ-ĐL3
A14: 04 | B14: Giũa vuông thô | E14: □12x300 | F14: =I$7 -> 490 | G14: SV | H14: 5 | I14: =H14*F14 -> 2450 | J14: cây | M14: CĐ-ĐL4
A15: 05 | B15: Cán giũa gỗ | E15: gỗ | F15: =I$7 -> 490 | G15: SV | H15: 2 | I15: =H15*F15 -> 980 | J15: cây | L15: Tổng công | N15: =SUM(N11:N14) -> 39 | Q15: =SUM(Q11:Q14) -> 50
A16: 06 | B16: Thép vuông C45 | E16: 40x40x105 | F16: =I$7 -> 490 | G16: SV | H16: 0.2 | I16: =H16*F16 -> 98 | J16: phôi | M16: CĐ-Ôtô1 | N16: 53 | P16: TC-Ôtô1
A17: 07 | B17: Mũi khoan thép gió | E17: f 8,5 | F17: =I$7 -> 490 | G17: SV | H17: 0.1 | I17: =H17*F17 -> 49 | J17: lưỡi | M17: CĐ-Ôtô2 | N17: 55 | P17: TC-Ôtô2
A18: 08 | B18: Mũi khoan thép gió | E18: f 10,5 | F18: =I$7 -> 490 | G18: SV | H18: 0.1 | I18: =H18*F18 -> 49 | J18: lưỡi | M18: CĐ-Ôtô3 | N18: 54
A19: 09 | B19: Mũi khoan thép gió | E19: f 16 | F19: =I$7 -> 490 | G19: SV | H19: 0.05 | I19: =H19*F19 -> 24.5 | J19: lưỡi | M19: CĐ-Ôtô4 | N19: 57
A20: 10 | B20: Chuôi côn | E20: 2 - 3 | F20: =F7 -> 10 | G20: lớp | H20: 1 | I20: =H20*F20 -> 10 | J20: cái | M20: CĐ-Ôtô5 | N20: 53
A21: 11 | B21: Lưỡi cưa tay 2 mặt | E21: L300 | F21: =I$7 -> 490 | G21: SV | H21: 1 | I21: =H21*F21 -> 490 | J21: cuộn | L21: Tổng công | N21: =SUM(N16:N20) -> 272 | Q21: =SUM(Q16:Q20) -> 0
A22: 12 | B22: Tarô | E22: M 10 | F22: =I$7 -> 490 | G22: SV | H22: 0.2 | I22: =H22*F22 -> 98 | J22: kg | M22: CĐ-CK1 | N22: 46 | P22: TC-CKT
A23: 13 | B23: Tarô | E23: M12 | F23: =I$7 -> 490 | G23: SV | H23: 0.2 | I23: =H23*F23 -> 98 | J23: kg | M23: CĐ-CK2 | N23: 46 | P23: TC-CKP
A24: 14 | B24: Tay quay tarô | E24: M12 | F24: =I$7 -> 490 | G24: SV | H24: 0.2 | I24: =H24*F24 -> 98 | J24: cái | M24: CĐ-CK3 | N24: 43
A25: 15 | M25: CĐ-CK4 | N25: 44
A26: 16 | M26: CĐ-CK5
A27: 17 | L27: Tổng công | N27: =SUM(N22:N26) -> 179 | Q27: =SUM(Q22:Q26) -> 0
A28: 18
A29: 19
A30: 20
A31: 21
A32: 22
A33: 23
A34: 24
A35: 25
A36: 26
A37: 27
A38: 28
A39: 29

Sheet Tinh VT N-H
A1: TRƯỜNG CAO ĐẲNG KỸ THUẬT | J1: CỘNG HÒA XÃ HỘI CHỦ NGHĨA VIỆT NAM
A2: LÝ TỰ TRỌNG TP. HỒ CHÍ MINH | J2: Độc lập – Tự do – Hạnh phúc
A3: KHOA CÔNG NGHỆ CƠ KHÍ
A4: Xưởng: Hàn, Nguội
E6: BẢNG GiẢI TRÌNH VẬT TƯ ĐỀ NGHỊ
E7: Cấp vật tư thực tập học kỳ II
C8: Năm học | D8: 2014 - 2015
B9: (Số lớp: | D9: 14CĐ-NL1 | E9: 1 | H9: Sĩ số học sinh: | I9: =P18 -> 39
D10: Tổng số lớp: | E10: =SUM(E9:E9) -> 1 | I10: =SUM(I9:I9) -> 39 | J10: )
A12: STT | B12: TÊN VẬT TƯ | C12: Mả hiệu/ | D12: Số lượng HS | F12: SL dùng/HS | G12: Số lượng đề nghị cấp | I12: Số lượng đề nghị cấp | L12: GHI CHÚ
C13: Quy cách | D13: ĐVT | E13: SL | G13: ĐVT | H13: TC | I13: Ưu tiên 1 | J13: Ưu tiên 2 | K13: Ưu tiên 3
A14: 1 | B14: Que hàn | C14: Ф2,6 | D14: lớp | E14: =IF(D14="SV",I$10,IF(D14="lớp",E$10)) -> 1 | F14: 0.5 | G14: thùng | H14: =F14*E14 -> 0.5 | O14: CĐ-ĐL1 | P14: 39 | Q14: 14 | R14: TC-ĐL1 | S14: 50
A15: 2 | B15: Que hàn | C15: Ф3,2 | D15: lớp | E15: =IF(D15="SV",I$10,IF(D15="lớp",E$10)) -> 1 | F15: 0.5 | G15: thùng | H15: =F15*E15 -> 0.5 | O15: CĐ-ĐL2 | R15: TC-ĐL2
A16: 3 | B16: Que hàn | C16: Ф4 | D16: lớp | E16: =IF(D16="SV",I$10,IF(D16="lớp",E$10)) -> 1 | F16: 0.5 | G16: thùng | H16: =F16*E16 -> 0.5 | O16: CĐ-ĐL3
A17: 4 | B17: Thép la | C17: 40x4 | D17: SV | E17: =IF(D17="SV",I$10,IF(D17="lớp",E$10)) -> 39 | F17: 2.8 | G17: mét | H17: =F17*E17 -> 109.2 | O17: CĐ-ĐL4
A18: 5 | B18: Thép tấm | C18: 200x400x5 | D18: SV | E18: =IF(D18="SV",I$10,IF(D18="lớp",E$10)) -> 39 | F18: 2 | G18: tấm | H18: =F18*E18 -> 78 | N18: Tổng công | P18: =SUM(P14:P17) -> 39 | S18: =SUM(S14:S17) -> 50
A19: 6 | B19: Khí argon | D19: lớp | E19: =IF(D19="SV",I$10,IF(D19="lớp",E$10)) -> 1 | F19: 0.2 | G19: chai | H19: =F19*E19 -> 0.2 | O19: CĐ-Ôtô1 | P19: 53 | R19: TC-Ôtô1
A20: 7 | B20: Khí CO2 | D20: lớp | E20: =IF(D20="SV",I$10,IF(D20="lớp",E$10)) -> 1 | F20: 0.5 | G20: chai | H20: =F20*E20 -> 0.5 | O20: CĐ-Ôtô2 | P20: 55 | R20: TC-Ôtô2
A21: 8 | B21: Điện cực hàn TIG | D21: lớp | E21: =IF(D21="SV",I$10,IF(D21="lớp",E$10)) -> 1 | G21: hộp | H21: =F21*E21 -> 0 | O21: CĐ-Ôtô3 | P21: 54
A22: 9 | B22: Bec(võ) hàn TIG (sứ) | D22: lớp | E22: =IF(D22="SV",I$10,IF(D22="lớp",E$10)) -> 1 | G22: bộ | H22: =F22*E22 -> 0 | O22: CĐ-Ôtô4 | P22: 57
A23: 10 | B23: Bec hàn MIG (đồng) | D23: lớp | E23: =IF(D23="SV",I$10,IF(D23="lớp",E$10)) -> 1 | F23: 2 | G23: bộ | H23: =F23*E23 -> 2 | O23: CĐ-Ôtô5 | P23: 53
A24: 11 | B24: Cuộn dây hàn MIG | C24: Ф0,8 | D24: lớp | E24: =IF(D24="SV",I$10,IF(D24="lớp",E$10)) -> 1 | F24: 2 | G24: cuộn | H24: =F24*E24 -> 2 | N24: Tổng công | P24: =SUM(P19:P23) -> 272 | S24: =SUM(S19:S23) -> 0
A25: 12 | B25: Xà bông | D25: lớp | E25: =IF(D25="SV",I$10,IF(D25="lớp",E$10)) -> 1 | F25: 0.5 | G25: kg | H25: =F25*E25 -> 0.5 | O25: CĐ-CK1 | P25: 46 | R25: TC-CKT
A26: 13 | B26: Vải lau | D26: lớp | E26: =IF(D26="SV",I$10,IF(D26="lớp",E$10)) -> 1 | F26: 0.2 | G26: kg | H26: =F26*E26 -> 0.2 | O26: CĐ-CK2 | P26: 46 | R26: TC-CKP
A27: 14 | B27: Búa gỏ sĩ | D27: lớp | E27: =IF(D27="SV",I$10,IF(D27="lớp",E$10)) -> 1 | F27: 1 | G27: cái | H27: =F27*E27 -> 1 | O27: CĐ-CK3 | P27: 43
A28: 15 | B28: Búa 2kg | D28: lớp | E28: =IF(D28="SV",I$10,IF(D28="lớp",E$10)) -> 1 | F28: 1 | G28: cái | H28: =F28*E28 -> 1 | O28: CĐ-CK4 | P28: 44
A29: 16 | B29: Lưỡi dao kéo cắt tay | D29: HK | E29: 1 | F29: 1 | G29: bộ | H29: =F29*E29 -> 1 | O29: CĐ-CK5
A30: 17 | B30: Đĩa đá cắt | D30: lớp | E30: =IF(D30="SV",I$10,IF(D30="lớp",E$10)) -> 1 | F30: 0.5 | G30: cái | H30: =F30*E30 -> 0.5 | N30: Tổng công | P30: =SUM(P25:P29) -> 179 | S30: =SUM(S25:S29) -> 0
A31: 18 | B31: Chổi lúa | D31: lớp | E31: =IF(D31="SV",I$10,IF(D31="lớp",E$10)) -> 1 | F31: 5 | G31: cái | H31: =F31*E31 -> 5
A32: 19 | B32: Cọ vệ sinh | D32: lớp | E32: =IF(D32="SV",I$10,IF(D32="lớp",E$10)) -> 1 | F32: 2 | G32: cái | H32: =F32*E32 -> 2
A33: 20 | B33: Khóa đồng hồ khí | D33: lớp | E33: =IF(D33="SV",I$10,IF(D33="lớp",E$10)) -> 1 | G33: bộ | H33: =F33*E33 -> 0
A34: 21 | B34: Tạp dề da | D34: HK | E34: 1 | F34: 2 | G34: cái | H34: =F34*E34 -> 2
A35: 22 | B35: Mặt nạ hàn điện tử | D35: lớp | E35: =IF(D35="SV",I$10,IF(D35="lớp",E$10)) -> 1 | F35: 5 | G35: cái | H35: =F35*E35 -> 5
A36: 23 | B36: Bec cắt Platma | C36: 1,5mm | D36: lớp | E36: =IF(D36="SV",I$10,IF(D36="lớp",E$10)) -> 1 | F36: 1 | G36: cái | H36: =F36*E36 -> 1
A37: 24 | B37: Kính hàn đen (thủy tinh) | D37: lớp | E37: =IF(D37="SV",I$10,IF(D37="lớp",E$10)) -> 1 | F37: 10 | G37: cái | H37: =F37*E37 -> 10
A38: 25 | B38: Tuvit bake | C38: Ф6 | D38: lớp | E38: =IF(D38="SV",I$10,IF(D38="lớp",E$10)) -> 1 | F38: 2 | G38: cái | H38: =F38*E38 -> 2
A39: 26 | B39: Cán búa | C39: gỗ | D39: lớp | E39: =IF(D39="SV",I$10,IF(D39="lớp",E$10)) -> 1 | F39: 10 | G39: cái | H39: =F39*E39 -> 10
A40: 27 | B40: Giũa phẳng thô | C40: 30x300 | D40: SV | E40: =IF(D40="SV",I$10,IF(D40="lớp",E$10)) -> 39 | F40: 1 | G40: cây | H40: =F40*E40 -> 39
A41: 28 | B41: Giũa phẳng tinh | C41: 30x300 | D41: SV | E41: =IF(D41="SV",I$10,IF(D41="lớp",E$10)) -> 39 | F41: 1 | G41: cây | H41: =F41*E41 -> 39
A42: 29 | B42: Giũa tròn thô | C42: Ф12x300 | D42: SV | E42: =IF(D42="SV",I$10,IF(D42="lớp",E$10)) -> 39 | F42: 1 | G42: cây | H42: =F42*E42 -> 39
A43: 30 | B43: Giũa vuông thô | C43: □12x300 | D43: SV | E43: =IF(D43="SV",I$10,IF(D43="lớp",E$10)) -> 39 | F43: 1 | G43: cây | H43: =F43*E43 -> 39
A44: 31 | B44: Cán giũa gỗ | C44: gỗ | D44: SV | E44: =IF(D44="SV",I$10,IF(D44="lớp",E$10)) -> 39 | F44: 1 | G44: cái | H44: =F44*E44 -> 39
A45: 32 | B45: Thép vuông C45 | C45: 40x40x105 | D45: SV | E45: =IF(D45="SV",I$10,IF(D45="lớp",E$10)) -> 39 | F45: 1 | G45: phôi | H45: =F45*E45 -> 39
A46: 33 | B46: Mũi khoan thép gió | C46: Ф8,5 | D46: SV | E46: =IF(D46="SV",I$10,IF(D46="lớp",E$10)) -> 39 | F46: 0.1 | G46: lưỡi | H46: =F46*E46 -> 3.9
A47: 34 | B47: Mũi khoan thép gió | C47: Ф10,5 | D47: SV | E47: =IF(D47="SV",I$10,IF(D47="lớp",E$10)) -> 39 | F47: 0.1 | G47: lưỡi | H47: =F47*E47 -> 3.9
A48: 35 | B48: Mũi khoan thép gió | C48: Ф16 | D48: SV | E48: =IF(D48="SV",I$10,IF(D48="lớp",E$10)) -> 39 | F48: 0.05 | G48: lưỡi | H48: =F48*E48 -> 1.95
A49: 36 | B49: Áo côn mooc | C49: số 2 - 3 | D49: lớp | E49: =IF(D49="SV",I$10,IF(D49="lớp",E$10)) -> 1 | F49: 2 | G49: cái | H49: =F49*E49 -> 2
... A55: 42 | B55: Thép gió | C55: Ф8x100 | D55: SV | E55: =IF(D55="SV",I$10,IF(D55="lớp",E$10)) -> 39 | F55: 0.1 | G55: cái | H55: =F55*E55 -> 3.9
A56: 43 | B56: Vạch dấu | D56: lớp | E56: =IF(D56="SV",I$10,IF(D56="lớp",E$10)) -> 1 | F56: 0.5 | G56: hộp | H56: =F56*E56 -> 0.5

Sheet VT NL
A1: TRƯỜNG CAO ĐẲNG KỸ THUẬT | J1: CỘNG HÒA XÃ HỘI CHỦ NGHĨA VIỆT NAM
A2: LÝ TỰ TRỌNG TP. HỒ CHÍ MINH | J2: Độc lập – Tự do – Hạnh phúc
A3: KHOA CÔNG NGHỆ CƠ KHÍ
A4: Xưởng: Hàn, Nguội
E6: BẢNG GiẢI TRÌNH VẬT TƯ ĐỀ NGHỊ
E7: Cấp vật tư thực tập học kỳ I
D8: Năm học | E8: 2014 - 2015
B9: (Số lớp: | D9: =O19 -> CĐ-ĐL1 | G9: Sĩ số học sinh: | H9: =P19 -> 39
D10: Tổng số lớp: | E10: 1 | G10: Tổng HS: | H10: =SUM(H9:H9) -> 39 | I10: )
A12: STT | B12: TÊN VẬT TƯ | C12: Mả hiệu/ | D12: Số lượng HS | F12: SL dùng/HS | G12: Số lượng đề nghị cấp | I12: Số lượng đề nghị cấp | L12: GHI CHÚ | Q12: Khối lượng riêng của sắt: | R12: 7.85
C13: Quy cách | D13: ĐVT | E13: SL | G13: ĐVT | H13: TC | I13: Ưu tiên 1 | J13: Ưu tiên 2 | K13: Ưu tiên 3 | P13: Tấm | Q13: 1 | R13: =400*200*5*R12/1000000 -> 3.14
A14: 1 | B14: Que hàn | C14: Ф3,2 | D14: SV | E14: =IF(D14="SV",H$10,IF(D14="lớp",E$10)) -> 39 | F14: 0.25 | G14: thùng | H14: =(F14*E14)/4 -> 2.4375 | I14: =H14 -> 2.4375 | Q14: =H16 -> 78 | R14: =Q14*R13 -> 244.92
A15: 2 | B15: Thép la | C15: 40x4 | D15: SV | E15: =IF(D15="SV",H$10,IF(D15="lớp",E$10)) -> 39 | F15: 2.8 | G15: mét | H15: =F15*E15 -> 109.2 | I15: =H15 -> 109.2 | K15: =H15-I15-J15 -> 0
A16: 3 | B16: Thép tấm | C16: 200x400x5 | D16: SV | E16: =IF(D16="SV",H$10,IF(D16="lớp",E$10)) -> 39 | F16: 2 | G16: tấm | H16: =F16*E16 -> 78 | I16: =H16 -> 78 | K16: =H16-I16-J16 -> 0 | L16: 245
A17: 4 | B17: Khí CO2 | D17: lớp | E17: =IF(D17="SV",H$10,IF(D17="lớp",E$10)) -> 1 | F17: 0.5 | G17: chai | H17: =F17*E17 -> 0.5 | I17: =H17 -> 0.5
A18: 5 | B18: Bec hàn MIG (đồng) | D18: lớp | E18: =IF(D18="SV",H$10,IF(D18="lớp",E$10)) -> 1 | F18: 2 | G18: bộ | H18: =F18*E18 -> 2 | I18: =H18 -> 2
A19: 6 | B19: Cuộn dây hàn MIG | C19: Ф0,8 | D19: lớp | E19: =IF(D19="SV",H$10,IF(D19="lớp",E$10)) -> 1 | F19: 2 | G19: cuộn | H19: =F19*E19 -> 2 | I19: =H19 -> 2 | O19: CĐ-ĐL1 | P19: 39 | Q19: 14 | R19: TC-ĐL1 | S19: 50
A20: 7 | B20: Xà bông | D20: lớp | E20: =IF(D20="SV",H$10,IF(D20="lớp",E$10)) -> 1 | F20: 0.5 | G20: kg | H20: =F20*E20 -> 0.5 | I20: =H20 -> 0.5 | O20: CĐ-ĐL2 | R20: TC-ĐL2
A21: 8 | B21: Vải lau | D21: lớp | E21: =IF(D21="SV",H$10,IF(D21="lớp",E$10)) -> 1 | F21: 0.2 | G21: kg | H21: =F21*E21 -> 0.2 | I21: =H21 -> 0.2 | O21: CĐ-ĐL3
A22: 9 | B22: Búa gỏ sĩ | D22: lớp | E22: =IF(D22="SV",H$10,IF(D22="lớp",E$10)) -> 1 | F22: 1 | G22: cái | H22: =F22*E22 -> 1 | I22: =H22 -> 1 | O22: CĐ-ĐL4
A23: 10 | B23: Búa 2kg | D23: lớp | E23: =IF(D23="SV",H$10,IF(D23="lớp",E$10)) -> 1 | F23: 1 | G23: cái | H23: =F23*E23 -> 1 | I23: =H23 -> 1 | N23: Tổng công | P23: =SUM(P19:P22) -> 39 | S23: =SUM(S19:S22) -> 50
A24: 11 | B24: Đĩa đá cắt | D24: lớp | E24: =IF(D24="SV",H$10,IF(D24="lớp",E$10)) -> 1 | F24: 0.5 | G24: cái | H24: =F24*E24 -> 0.5 | I24: =H24 -> 0.5
A25: 12 | B25: Cọ vệ sinh | D25: lớp | E25: =IF(D25="SV",H$10,IF(D25="lớp",E$10)) -> 1 | F25: 2 | G25: cái | H25: =F25*E25 -> 2 | I25: =H25 -> 2
A26: 13 | B26: Tạp dề da | D26: lớp | E26: =IF(D26="SV",H$10,IF(D26="lớp",E$10)) -> 1 | F26: 5 | G26: cái | H26: =F26*E26 -> 5 | I26: =H26 -> 5
A27: 14 | B27: Bec cắt Platma | C27: 1,5mm | D27: lớp | E27: =IF(D27="SV",H$10,IF(D27="lớp",E$10)) -> 1 | F27: 1 | G27: cái | H27: =F27*E27 -> 1 | I27: =H27 -> 1
A28: 15 | B28: Kính hàn đen (thủy tinh) | D28: lớp | E28: =IF(D28="SV",H$10,IF(D28="lớp",E$10)) -> 1 | F28: 5 | G28: cái | H28: =F28*E28 -> 5 | I28: =H28 -> 5
A29: 16 | B29: Cán búa | C29: gỗ | D29: lớp | E29: =IF(D29="SV",H$10,IF(D29="lớp",E$10)) -> 1 | F29: 10 | G29: cái | H29: =F29*E29 -> 10 | I29: =H29 -> 10
A30: 17 | B30: Giũa phẳng thô | C30: 30x300 | D30: SV | E30: =IF(D30="SV",H$10,IF(D30="lớp",E$10)) -> 39 | F30: 1 | G30: cây | H30: =F30*E30 -> 39 | I30: =H30 -> 39
A31: 18 | B31: Giũa phẳng tinh | C31: 30x300 | D31: SV | E31: =IF(D31="SV",H$10,IF(D31="lớp",E$10)) -> 39 | F31: 1 | G31: cây | H31: =F31*E31 -> 39 | I31: =H31 -> 39
A32: 19 | B32: Giũa tròn thô | C32: Ф12x300 | D32: SV | E32: =IF(D32="SV",H$10,IF(D32="lớp",E$10)) -> 39 | F32: 1 | G32: cây | H32: =F32*E32 -> 39 | I32: =H32 -> 39
A33: 20 | B33: Giũa vuông thô | C33: □12x300 | D33: SV | E33: =IF(D33="SV",H$10,IF(D33="lớp",E$10)) -> 39 | F33: 1 | G33: cây | H33: =F33*E33 -> 39 | I33: =H33 -> 39
A34: 21 | B34: Cán giũa gỗ | C34: gỗ | D34: SV | E34: =IF(D34="SV",H$10,IF(D34="lớp",E$10)) -> 39 | F34: 1 | G34: cái | H34: =F34*E34 -> 39 | I34: =H34 -> 39
A35: 22 | B35: Thép vuông C45 | C35: 40x40x105 | D35: SV | E35: =IF(D35="SV",H$10,IF(D35="lớp",E$10)) -> 39 | F35: 1 | G35: phôi | H35: =F35*E35 -> 39 | I35: =H35 -> 39
A36: 23 | B36: Mũi khoan thép gió | C36: Ф8,5 | D36: SV | E36: =IF(D36="SV",H$10,IF(D36="lớp",E$10)) -> 39 | F36: 0.1 | G36: lưỡi | H36: =F36*E36 -> 3.9 | I36: =H36 -> 3.9
A37: 24 | B37: Mũi khoan thép gió | C37: Ф10,5 | D37: SV | E37: =IF(D37="SV",H$10,IF(D37="lớp",E$10)) -> 39 | F37: 0.1 | G37: lưỡi | H37: =F37*E37 -> 3.9 | I37: =H37 -> 3.9
A38: 25 | B38: Mũi khoan thép gió | C38: Ф16 | D38: SV | E38: =IF(D38="SV",H$10,IF(D38="lớp",E$10)) -> 39 | F38: 0.05 | G38: lưỡi | H38: =F38*E38 -> 1.95 | I38: =H38 -> 1.95
A39: 26 | B39: Áo côn mooc | C39: số 2 - 3 | D39: lớp | E39: =IF(D39="SV",H$10,IF(D39="lớp",E$10)) -> 1 | F39: 1 | G39: cái | H39: =F39*E39 -> 1 | I39: =H39 -> 1
A40: 27 | B40: Lưỡi cưa tay 2 mặt | C40: L300 | D40: SV | E40: =IF(D40="SV",H$10,IF(D40="lớp",E$10)) -> 39 | F40: 1 | G40: lưỡi | H40: =F40*E40 -> 39 | I40: =H40 -> 39
... A45: 32 | B45: Thép gió | C45: Ф8x100 | D45: SV | E45: =IF(D45="SV",H$10,IF(D45="lớp",E$10)) -> 39 | F45: 0.1 | G45: cái | H45: =F45*E45 -> 3.9 | I45: =H45 -> 3.9
A46: 33 | B46: Vạch dấu | D46: lớp | E46: =IF(D46="SV",H$10,IF(D46="lớp",E$10)) -> 1 | F46: 0.2 | G46: hộp | H46: =F46*E46 -> 0.2 | I46: =H46 -> 0.2
J48: Ngày 28 tháng 7 năm 2015
B49: TRƯỞNG BỘ MÔN | J49: NGƯỜI ĐỀ NGHỊ
B53: Trần Đình Khải | J53: Trần Đình Khải

Sheet VT Oto
A1: TRƯỜNG CAO ĐẲNG KỸ THUẬT | J1: CỘNG HÒA XÃ HỘI CHỦ NGHĨA VIỆT NAM
A2: LÝ TỰ TRỌNG TP. HỒ CHÍ MINH | J2: Độc lập – Tự do – Hạnh phúc
A3: KHOA CÔNG NGHỆ CƠ KHÍ
A4: Xưởng: Hàn, Nguội
E6: BẢNG GiẢI TRÌNH VẬT TƯ ĐỀ NGHỊ
E7: Cấp vật tư thực tập học kỳ I
D8: Năm học | E8: 2014 - 2015
B9: (Số lớp: | D9: =O23 -> CĐ-Ôtô 1 | G9: Sĩ số học sinh: | H9: =P23 -> 53
D10: =O24 -> CĐ-Ôtô 2 | H10: =P24 -> 55
D11: =O25 -> CĐ-Ôtô 3 | H11: =P25 -> 54
D12: =O26 -> CĐ-Ôtô 4 | H12: =P26 -> 57
D13: =O27 -> CĐ-Ôtô 5 | H13: =P27 -> 53 | P13: 4 | Q13: 10 | R13: =Q13*P13 -> 40
D14: Tổng số lớp: | E14: 5 | G14: Tổng HS: | H14: =SUM(H9:H13) -> 272 | I14: )
A16: STT | B16: TÊN VẬT TƯ | C16: Mả hiệu/ | D16: Số lượng HS | F16: SL dùng/HS | G16: Số lượng đề nghị cấp | I16: Số lượng đề nghị cấp | L16: GHI CHÚ | Q16: Khối lượng riêng của sắt: | R16: 7.85
C17: Quy cách | D17: ĐVT | E17: SL | G17: ĐVT | H17: TC | I17: Ưu tiên 1 | J17: Ưu tiên 2 | K17: Ưu tiên 3 | P17: Tấm | Q17: 1 | R17: =400*200*5*R16/1000000 -> 3.14
A18: 1 | B18: Que hàn | C18: Ф3,2 | D18: SV | E18: =IF(D18="SV",H$14,IF(D18="lớp",E$14)) -> 272 | F18: 0.25 | G18: thùng | H18: =(F18*E18)/4 -> 17 | I18: 10 | J18: 7 | Q18: =H20 -> 544 | R18: =Q18*R17 -> 1708.16
A19: 2 | B19: Thép la | C19: 40x4 | D19: SV | E19: =IF(D19="SV",H$14,IF(D19="lớp",E$14)) -> 272 | F19: 2.8 | G19: mét | H19: =F19*E19 -> 761.6 | I19: 300 | J19: 250 | K19: =H19-I19-J19 -> 211.6
A20: 3 | B20: Thép tấm | C20: 200x400x5 | D20: SV | E20: =IF(D20="SV",H$14,IF(D20="lớp",E$14)) -> 272 | F20: 2 | G20: tấm | H20: =F20*E20 -> 544 | I20: 200 | J20: 200 | K20: =H20-I20-J20 -> 144 | L20: 1710
A21: 4 | B21: Khí CO2 | D21: lớp | E21: =IF(D21="SV",H$14,IF(D21="lớp",E$14)) -> 5 | F21: 0.5 | G21: chai | H21: =F21*E21 -> 2.5 | I21: =H21 -> 2.5
A22: 5 | B22: Bec hàn MIG (đồng) | D22: lớp | E22: =IF(D22="SV",H$14,IF(D22="lớp",E$14)) -> 5 | F22: 2 | G22: bộ | H22: =F22*E22 -> 10 | I22: =H22 -> 10 | N22: Tổng công | P22: =SUM(P18:P21) -> 0 | S22: =SUM(S18:S21) -> 0
A23: 6 | B23: Cuộn dây hàn MIG | C23: Ф0,8 | D23: lớp | E23: =IF(D23="SV",H$14,IF(D23="lớp",E$14)) -> 5 | F23: 2 | G23: cuộn | H23: =F23*E23 -> 10 | I23: 5 | J23: 5 | O23: CĐ-Ôtô 1 | P23: 53 | R23: TC-Ôtô1 | S23: 50
A24: 7 | B24: Xà bông | D24: lớp | E24: =IF(D24="SV",H$14,IF(D24="lớp",E$14)) -> 5 | F24: 0.5 | G24: kg | H24: =F24*E24 -> 2.5 | I24: =H24 -> 2.5 | O24: CĐ-Ôtô 2 | P24: 55 | R24: TC-Ôtô2 | S24: 50
A25: 8 | B25: Vải lau | D25: lớp | E25: =IF(D25="SV",H$14,IF(D25="lớp",E$14)) -> 5 | F25: 0.2 | G25: kg | H25: =F25*E25 -> 1 | I25: =H25 -> 1 | O25: CĐ-Ôtô 3 | P25: 54
A26: 9 | B26: Búa gỏ sĩ | D26: lớp | E26: =IF(D26="SV",H$14,IF(D26="lớp",E$14)) -> 5 | F26: 1 | G26: cái | H26: =F26*E26 -> 5 | I26: =H26 -> 5 | O26: CĐ-Ôtô 4 | P26: 57
A27: 10 | B27: Búa 2kg | D27: lớp | E27: =IF(D27="SV",H$14,IF(D27="lớp",E$14)) -> 5 | F27: 1 | G27: cái | H27: =F27*E27 -> 5 | I27: =H27 -> 5 | O27: CĐ-Ôtô 5 | P27: 53
A28: 11 | B28: Đĩa đá cắt | D28: lớp | E28: =IF(D28="SV",H$14,IF(D28="lớp",E$14)) -> 5 | F28: 0.5 | G28: cái | H28: =F28*E28 -> 2.5 | I28: =H28 -> 2.5 | N28: Tổng công | P28: =SUM(P23:P27) -> 272 | S28: =SUM(S23:S27) -> 100
A29: 12 | B29: Cọ vệ sinh | D29: lớp | E29: =IF(D29="SV",H$14,IF(D29="lớp",E$14)) -> 5 | F29: 2 | G29: cái | H29: =F29*E29 -> 10 | I29: =H29 -> 10 | O29: CĐ-CK1 | P29: 46 | R29: TC-CKT | S29: 50
A30: 13 | B30: Tạp dề da | D30: lớp | E30: =IF(D30="SV",H$14,IF(D30="lớp",E$14)) -> 5 | F30: 5 | G30: cái | H30: =F30*E30 -> 25 | I30: =H30 -> 25 | O30: CĐ-CK2 | P30: 46 | R30: TC-CKP | S30: 50
A31: 14 | B31: Bec cắt Platma | C31: 1,5mm | D31: lớp | E31: =IF(D31="SV",H$14,IF(D31="lớp",E$14)) -> 5 | F31: 1 | G31: cái | H31: =F31*E31 -> 5 | I31: =H31 -> 5 | O31: CĐ-CK3 | P31: 43
A32: 15 | B32: Kính hàn đen (thủy tinh) | D32: lớp | E32: =IF(D32="SV",H$14,IF(D32="lớp",E$14)) -> 5 | F32: 5 | G32: cái | H32: =F32*E32 -> 25 | I32: =H32 -> 25 | O32: CĐ-CK4 | P32: 44
A33: 16 | B33: Cán búa | C33: gỗ | D33: lớp | E33: =IF(D33="SV",H$14,IF(D33="lớp",E$14)) -> 5 | F33: 10 | G33: cái | H33: =F33*E33 -> 50 | I33: =H33 -> 50 | O33: CĐ-CK5
A34: 17 | B34: Giũa phẳng thô | C34: 30x300 | D34: SV | E34: =IF(D34="SV",H$14,IF(D34="lớp",E$14)) -> 272 | F34: 1 | G34: cây | H34: =F34*E34 -> 272 | I34: =H34 -> 272 | N34: Tổng công | P34: =SUM(P29:P33) -> 179 | S34: =SUM(S29:S33) -> 100
A35: 18 | B35: Giũa phẳng tinh | C35: 30x300 | D35: SV | E35: =IF(D35="SV",H$14,IF(D35="lớp",E$14)) -> 272 | F35: 1 | G35: cây | H35: =F35*E35 -> 272 | I35: =H35 -> 272
A36: 19 | B36: Giũa tròn thô | C36: Ф12x300 | D36: SV | E36: =IF(D36="SV",H$14,IF(D36="lớp",E$14)) -> 272 | F36: 1 | G36: cây | H36: =F36*E36 -> 272 | I36: =H36 -> 272
A37: 20 | B37: Giũa vuông thô | C37: □12x300 | D37: SV | E37: =IF(D37="SV",H$14,IF(D37="lớp",E$14)) -> 272 | F37: 1 | G37: cây | H37: =F37*E37 -> 272 | I37: =H37 -> 272
A38: 21 | B38: Cán giũa gỗ | C38: gỗ | D38: SV | E38: =IF(D38="SV",H$14,IF(D38="lớp",E$14)) -> 272 | F38: 1 | G38: cái | H38: =F38*E38 -> 272 | I38: =H38 -> 272
A39: 22 | B39: Thép vuông C45 | C39: 40x40x105 | D39: SV | E39: =IF(D39="SV",H$14,IF(D39="lớp",E$14)) -> 272 | F39: 1 | G39: phôi | H39: =F39*E39 -> 272 | I39: =H39 -> 272
A40: 23 | B40: Mũi khoan thép gió | C40: Ф8,5 | D40: SV | E40: =IF(D40="SV",H$14,IF(D40="lớp",E$14)) -> 272 | F40: 0.1 | G40: lưỡi | H40: =F40*E40 -> 27.2 | I40: =H40 -> 27.2
A41: 24 | B41: Mũi khoan thép gió | C41: Ф10,5 | D41: SV | E41: =IF(D41="SV",H$14,IF(D41="lớp",E$14)) -> 272 | F41: 0.1 | G41: lưỡi | H41: =F41*E41 -> 27.2 | I41: =H41 -> 27.2
A42: 25 | B42: Mũi khoan thép gió | C42: Ф16 | D42: SV | E42: =IF(D42="SV",H$14,IF(D42="lớp",E$14)) -> 272 | F42: 0.05 | G42: lưỡi | H42: =F42*E42 -> 13.6 | I42: =H42 -> 13.6
A43: 26 | B43: Áo côn mooc | C43: số 2 - 3 | D43: lớp | E43: =IF(D43="SV",H$14,IF(D43="lớp",E$14)) -> 5 | F43: 1 | G43: cái | H43: =F43*E43 -> 5 | I43: =H43 -> 5
A44: 27 | B44: Lưỡi cưa tay 2 mặt | C44: L300 | D44: SV | E44: =IF(D44="SV",H$14,IF(D44="lớp",E$14)) -> 272 | F44: 1 | G44: lưỡi | H44: =F44*E44 -> 272 | I44: =H44 -> 272
A45: 28 | B45: Tarô | C45: M 10x1,5 | D45: SV | E45: =IF(D45="SV",H$14,IF(D45="lớp",E$14)) -> 272 | F45: 0.1 | G45: bộ | H45: =F45*E45 -> 27.2 | I45: =H45 -> 27.2
A46: 29 | B46: Tarô | C46: M12x1,75 | D46: SV | E46: =IF(D46="SV",H$14,IF(D46="lớp",E$14)) -> 272 | F46: 0.3 | G46: bộ | H46: =F46*E46 -> 81.6 | I46: =H46 -> 81.6
... A49: 32 | B49: Thép gió | C49: Ф8x100 | D49: SV | E49: =IF(D49="SV",H$14,IF(D49="lớp",E$14)) -> 272 | F49: 0.1 | G49: cái | H49: =F49*E49 -> 27.2 | I49: =H49 -> 27.2
A50: 33 | B50: Vạch dấu | D50: lớp | E50: =IF(D50="SV",H$14,IF(D50="lớp",E$14)) -> 5 | F50: 0.2 | G50: hộp | H50: =F50*E50 -> 1 | I50: =H50 -> 1
J52: Ngày 28 tháng 7 năm 2015
B53: TRƯỞNG BỘ MÔN | J53: NGƯỜI ĐỀ NGHỊ
B57: Trần Đình Khải | J57: Trần Đình Khải

Sheet VT CK
A1: TRƯỜNG CAO ĐẲNG KỸ THUẬT | J1: CỘNG HÒA XÃ HỘI CHỦ NGHĨA VIỆT NAM
A2: LÝ TỰ TRỌNG TP. HỒ CHÍ MINH | J2: Độc lập – Tự do – Hạnh phúc
A3: KHOA CÔNG NGHỆ CƠ KHÍ
A4: Xưởng: Hàn, Nguội
E6: BẢNG GiẢI TRÌNH VẬT TƯ ĐỀ NGHỊ
E7: Cấp vật tư thực tập học kỳ I
D8: Năm học | E8: 2014 - 2015
B9: (Số lớp: | D9: =O30 -> 14CĐ-CK1 | G9: Sĩ số học sinh: | H9: =P30 -> 46
D10: =O31 -> 14CĐ-CK2 | H10: =P31 -> 46
D11: =O32 -> 14CĐ-CK3 | H11: =P32 -> 43
D12: =O33 -> 14CĐ-CK4 | H12: =P33 -> 44
D13: =R30 -> 15TC-CKT | H13: =S30 -> 50
D14: =R31 -> 15TC-CKP | H14: =S31 -> 50
D15: Tổng số lớp: | E15: 6 | G15: Tổng HS: | H15: =SUM(H9:H14) -> 279 | I15: )
A17: STT | B17: TÊN VẬT TƯ | C17: Mả hiệu/ | D17: Số lượng HS | F17: SL dùng/HS | G17: Số lượng đề nghị cấp | I17: Số lượng đề nghị cấp | L17: GHI CHÚ | Q17: Khối lượng riêng của sắt: | R17: 7.85
C18: Quy cách | D18: ĐVT | E18: SL | G18: ĐVT | H18: TC | I18: Ưu tiên 1 | J18: Ưu tiên 2 | K18: Ưu tiên 3 | P18: Tấm | Q18: 1 | R18: =400*200*5*R17/1000000 -> 3.14
A19: 1 | B19: Que hàn | C19: Ф3,2 | D19: SV | E19: =IF(D19="SV",H$15,IF(D19="lớp",E$15)) -> 279 | F19: 0.35 | G19: thùng | H19: =(F19*E19)/4 -> 24.4125 | I19: 10 | J19: 7 | K19: 7 | Q19: =H21 -> 837 | R19: =Q19*R18 -> 2628.18
A20: 2 | B20: Thép la | C20: 40x4 | D20: SV | E20: =IF(D20="SV",H$15,IF(D20="lớp",E$15)) -> 279 | F20: 2.8 | G20: mét | H20: =F20*E20 -> 781.2 | I20: 300 | J20: 250 | K20: =H20-I20-J20 -> 231.2
A21: 3 | B21: Thép tấm | C21: 200x400x5 | D21: SV | E21: =IF(D21="SV",H$15,IF(D21="lớp",E$15)) -> 279 | F21: 3 | G21: tấm | H21: =F21*E21 -> 837 | I21: 400 | J21: 300 | K21: =H21-I21-J21 -> 137 | L21: 2630 | Q21: CK | R21: =L21 -> 2630
A22: 4 | B22: Khí CO2 | D22: lớp | E22: =IF(D22="SV",H$15,IF(D22="lớp",E$15)) -> 6 | F22: 0.5 | G22: chai | H22: =F22*E22 -> 3 | I22: 2 | J22: 1 | Q22: Oto | R22: ='VT Oto'!L20 -> 1710
A23: 5 | B23: Bec hàn MIG (đồng) | D23: lớp | E23: =IF(D23="SV",H$15,IF(D23="lớp",E$15)) -> 6 | F23: 2 | G23: bộ | H23: =F23*E23 -> 12 | I23: =H23 -> 12 | Q23: NL | R23: ='VT NL'!L16 -> 245
A24: 6 | B24: Cuộn dây hàn MIG | C24: Ф0,8 | D24: lớp | E24: =IF(D24="SV",H$15,IF(D24="lớp",E$15)) -> 6 | F24: 2 | G24: cuộn | H24: =F24*E24 -> 12 | I24: 6 | J24: 6 | P24: Tổng khối lượng | R24: =SUM(R21:R23) -> 4585 | S24: kg
A25: 7 | B25: Xà bông | D25: lớp | E25: =IF(D25="SV",H$15,IF(D25="lớp",E$15)) -> 6 | F25: 0.5 | G25: kg | H25: =F25*E25 -> 3 | I25: =H25 -> 3
A26: 8 | B26: Vải lau | D26: lớp | E26: =IF(D26="SV",H$15,IF(D26="lớp",E$15)) -> 6 | F26: 0.2 | G26: kg | H26: =F26*E26 -> 1.2 | I26: =H26 -> 1.2
A27: 9 | B27: Búa gỏ sĩ | D27: lớp | E27: =IF(D27="SV",H$15,IF(D27="lớp",E$15)) -> 6 | F27: 1 | G27: cái | H27: =F27*E27 -> 6 | I27: =H27 -> 6
A28: 10 | B28: Búa 2kg | D28: lớp | E28: =IF(D28="SV",H$15,IF(D28="lớp",E$15)) -> 6 | F28: 1 | G28: cái | H28: =F28*E28 -> 6 | I28: =H28 -> 6
A29: 11 | B29: Lưỡi dao kéo cắt tay | D29: HK | E29: 1 | F29: 1 | G29: bộ | H29: =F29*E29 -> 1 | I29: =H29 -> 1
A30: 12 | B30: Đĩa đá cắt | D30: lớp | E30: =IF(D30="SV",H$15,IF(D30="lớp",E$15)) -> 6 | F30: 0.5 | G30: cái | H30: =F30*E30 -> 3 | I30: =H30 -> 3 | O30: 14CĐ-CK1 | P30: 46 | R30: 15TC-CKT | S30: 50
A31: 13 | B31: Chổi lúa | D31: HK | E31: 1 | F31: 5 | G31: cái | H31: =F31*E31 -> 5 | I31: =H31 -> 5 | O31: 14CĐ-CK2 | P31: 46 | R31: 15TC-CKP | S31: 50
A32: 14 | B32: Cọ vệ sinh | D32: lớp | E32: =IF(D32="SV",H$15,IF(D32="lớp",E$15)) -> 6 | F32: 2 | G32: cái | H32: =F32*E32 -> 12 | I32: =H32 -> 12 | O32: 14CĐ-CK3 | P32: 43
A33: 15 | B33: Tạp dề da | D33: lớp | E33: =IF(D33="SV",H$15,IF(D33="lớp",E$15)) -> 6 | F33: 5 | G33: cái | H33: =F33*E33 -> 30 | I33: =H33 -> 30 | O33: 14CĐ-CK4 | P33: 44
A34: 16 | B34: Mặt nạ hàn điện tử | D34: HK | E34: 1 | F34: 5 | G34: cái | H34: =F34*E34 -> 5 | I34: =H34 -> 5 | O34: 14CĐ-CK5
A35: 17 | B35: Bec cắt Platma | C35: 1,5mm | D35: lớp | E35: =IF(D35="SV",H$15,IF(D35="lớp",E$15)) -> 6 | F35: 1 | G35: cái | H35: =F35*E35 -> 6 | I35: 3 | J35: 3 | N35: Tổng công | P35: =SUM(P30:P34) -> 179 | S35: =SUM(S30:S34) -> 100
A36: 18 | B36: Kính hàn đen (thủy tinh) | D36: lớp | E36: =IF(D36="SV",H$15,IF(D36="lớp",E$15)) -> 6 | F36: 5 | G36: cái | H36: =F36*E36 -> 30 | I36: =H36 -> 30
A37: 19 | B37: Tuvit bake | C37: Ф6 | D37: HK | E37: 1 | F37: 2 | G37: cái | H37: =F37*E37 -> 2 | I37: =H37 -> 2
A38: 20 | B38: Cán búa | C38: gỗ | D38: lớp | E38: =IF(D38="SV",H$15,IF(D38="lớp",E$15)) -> 6 | F38: 10 | G38: cái | H38: =F38*E38 -> 60 | I38: 30 | J38: 30
A39: 21 | B39: Giũa phẳng thô | C39: 30x300 | D39: SV | E39: =IF(D39="SV",H$15,IF(D39="lớp",E$15)) -> 279 | F39: 1 | G39: cây | H39: =F39*E39 -> 279 | I39: =H39 -> 279
A40: 22 | B40: Giũa phẳng tinh | C40: 30x300 | D40: SV | E40: =IF(D40="SV",H$15,IF(D40="lớp",E$15)) -> 279 | F40: 1 | G40: cây | H40: =F40*E40 -> 279 | I40: =H40 -> 279
A41: 23 | B41: Giũa tròn thô | C41: Ф12x300 | D41: SV | E41: =IF(D41="SV",H$15,IF(D41="lớp",E$15)) -> 279 | F41: 1 | G41: cây | H41: =F41*E41 -> 279 | I41: =H41 -> 279
A42: 24 | B42: Giũa vuông thô | C42: □12x300 | D42: SV | E42: =IF(D42="SV",H$15,IF(D42="lớp",E$15)) -> 279 | F42: 1 | G42: cây | H42: =F42*E42 -> 279 | I42: =H42 -> 279
A43: 25 | B43: Cán giũa gỗ | C43: gỗ | D43: SV | E43: =IF(D43="SV",H$15,IF(D43="lớp",E$15)) -> 279 | F43: 1 | G43: cái | H43: =F43*E43 -> 279 | I43: =H43 -> 279
A44: 26 | B44: Thép vuông C45 | C44: 40x40x105 | D44: SV | E44: =IF(D44="SV",H$15,IF(D44="lớp",E$15)) -> 279 | F44: 1 | G44: phôi | H44: =F44*E44 -> 279 | I44: =H44 -> 279
A45: 27 | B45: Mũi khoan thép gió | C45: Ф8,5 | D45: SV | E45: =IF(D45="SV",H$15,IF(D45="lớp",E$15)) -> 279 | F45: 0.1 | G45: lưỡi | H45: =F45*E45 -> 27.9 | I45: =H45 -> 27.9
A46: 28 | B46: Mũi khoan thép gió | C46: Ф10,5 | D46: SV | E46: =IF(D46="SV",H$15,IF(D46="lớp",E$15)) -> 279 | F46: 0.1 | G46: lưỡi | H46: =F46*E46 -> 27.9 | I46: =H46 -> 27.9
A47: 29 | B47: Mũi khoan thép gió | C47: Ф16 | D47: SV | E47: =IF(D47="SV",H$15,IF(D47="lớp",E$15)) -> 279 | F47: 0.05 | G47: lưỡi | H47: =F47*E47 -> 13.95 | I47: =H47 -> 13.95
A48: 30 | B48: Áo côn mooc | C48: số 2 - 3 | D48: lớp | E48: =IF(D48="SV",H$15,IF(D48="lớp",E$15)) -> 6 | F48: 1 | G48: cái | H48: =F48*E48 -> 6 | I48: =H48 -> 6
A49: 31 | B49: Lưỡi cưa tay 2 mặt | C49: L300 | D49: SV | E49: =IF(D49="SV",H$15,IF(D49="lớp",E$15)) -> 279 | F49: 1 | G49: lưỡi | H49: =F49*E49 -> 279 | I49: =H49 -> 279
A50: 32 | B50: Tarô | C50: M 10x1,5 | D50: SV | E50: =IF(D50="SV",H$15,IF(D50="lớp",E$15)) -> 279 | F50: 0.1 | G50: bộ | H50: =F50*E50 -> 27.9 | I50: =H50 -> 27.9
... A54: 36 | B54: Thép gió | C54: Ф8x100 | D54: SV | E54: =IF(D54="SV",H$15,IF(D54="lớp",E$15)) -> 279 | F54: 0.1 | G54: cái | H54: =F54*E54 -> 27.9 | I54: =H54 -> 27.9
A55: 37 | B55: Vạch dấu | D55: lớp | E55: =IF(D55="SV",H$15,IF(D55="lớp",E$15)) -> 6 | F55: 0.2 | G55: hộp | H55: =F55*E55 -> 1.2 | I55: =H55 -> 1.2
J57: Ngày 28 tháng 7 năm 2015
B58: TRƯỞNG BỘ MÔN | J58: NGƯỜI ĐỀ NGHỊ
B62: Trần Đình Khải | J62: Trần Đình Khải

Sheet De Nghi
A1: TRƯỜNG CAO ĐẲNG KỸ THUẬT | G1: CỘNG HÒA XÃ HỘI CHỦ NGHĨA VIỆT NAM
A2: LÝ TỰ TRỌNG TP. HỒ CHÍ MINH | G2: Độc lập – Tự do – Hạnh phúc
A3: KHOA CÔNG NGHỆ CƠ KHÍ
B4: Xưởng: Hàn, Nguội
D6: PHIẾU ĐỀ NGHỊ
D7: Cấp vật tư thực tập học kỳ I
C8: Năm học | D8: 2014 - 2015
C9: (Số lớp: | D9: 14CĐ-NL | E9: 1 | G9: Sĩ số học sinh: | H9: ='VT Oto'!H8 -> 0
D10: 14CĐ-Ôtô | E10: 5 | H10: ='VT Oto'!G9 -> Sĩ số học sinh:
D11: 14CĐ-CK | E11: 4 | H11: ='VT Oto'!#REF! -> #REF!
D12: Tổng số lớp: | E12: =SUM(E9:E11) -> 10 | H12: ='VT Oto'!H15 -> 0 | I12: )
A14: STT | B14: TÊN VẬT TƯ | C14: Mã hiệu/ quy cách | D14: ĐVT | E14: Số lượng đề nghị cấp | I14: GHI CHÚ | J14: Nhận
E15: Tổng số | F15: Ưu tiên 1 | G15: Ưu tiên 2 | H15: Ưu tiên 3 | J15: Ngày | K15: SL
A16: 1 | B16: Que hàn | C16: ='VT NL'!C11 -> 0 | D16: ='VT NL'!G11 -> 0 | E16: ='VT NL'!H11 -> 0
A17: 2 | B17: Thép la | C17: ='VT NL'!C13 -> Quy cách | D17: ='VT NL'!G13 -> ĐVT | E17: ='VT NL'!H13 -> TC | F17: 800 | G17: 800 | H17: 360
A18: 3 | B18: Thép tấm | C18: ='VT NL'!C14 -> Ф3,2 | D18: ='VT NL'!G14 -> thùng | E18: ='VT NL'!H14 -> 2.4375 | F18: 300 | G18: 250 | H18: 185 | I18: Đổi kích thước
A19: 4 | B19: Khí CO1 | C19: ='VT NL'!C15 -> 40x4 | D19: ='VT NL'!G15 -> mét | E19: ='VT NL'!H15 -> 109.2 | F19: 1 | G19: 1
A20: 5 | B20: Khí CO2 | C20: ='VT NL'!C16 -> 200x400x5 | D20: ='VT NL'!G16 -> tấm | E20: ='VT NL'!H16 -> 78 | F20: 4 | G20: 3 | H20: 3
A21: 6 | B21: Cuộn dây hàn MIG | C21: ='VT NL'!C20 -> 0 | D21: ='VT NL'!G20 -> kg | E21: ='VT NL'!H20 -> 0.5 | F21: 10 | G21: 10
A22: 7 | B22: Xà bông | C22: ='VT NL'!C21 -> 0 | D22: ='VT NL'!G21 -> kg | E22: ='VT NL'!H21 -> 0.2
A23: 8 | B23: Cán búa 1kg | C23: ='VT NL'!C24 -> 0 | D23: ='VT NL'!G24 -> cái | E23: ='VT NL'!H24 -> 0.5
A24: 9 | B24: Đĩa đá cắt | C24: ='VT NL'!C26 -> 0 | D24: ='VT NL'!G26 -> cái | E24: ='VT NL'!H26 -> 5
A25: 10 | B25: Chổi lúa | C25: ='VT NL'!C27 -> 1,5mm | D25: ='VT NL'!G27 -> cái | E25: ='VT NL'!H27 -> 1
A26: 11 | B26: Tạp dề da | C26: ='VT NL'!C30 -> 30x300 | D26: ='VT NL'!G30 -> cây | E26: ='VT NL'!H30 -> 39 | F26: 20
A27: 12 | B27: Mặt nạ hàn điện tử | C27: ='VT NL'!C31 -> 30x300 | D27: ='VT NL'!G31 -> cây | E27: ='VT NL'!H31 -> 39
A28: 13 | B28: Bec cắt Platma | C28: ='VT NL'!C32 -> Ф12x300 | D28: ='VT NL'!G32 -> cây | E28: ='VT NL'!H32 -> 39
A29: 14 | B29: Tuvit bake | C29: ='VT NL'!C34 -> gỗ | D29: ='VT NL'!G34 -> cái | E29: ='VT NL'!H34 -> 39
A30: 15 | B30: ='VT Oto'!B18 -> Que hàn | C30: ='VT Oto'!C18 -> Ф3,2 | D30: ='VT Oto'!D18 -> SV | E30: ='VT Oto'!E18 -> 272 | F30: 290 | G30: 200
A31: 16 | B31: ='VT Oto'!#REF! -> #REF! | C31: ='VT Oto'!#REF! -> #REF! | D31: ='VT Oto'!#REF! -> #REF! | E31: ='VT Oto'!#REF! -> #REF! | F31: 290 | G31: 200
A32: 17 | B32: ='VT Oto'!B19 -> Thép la | C32: ='VT Oto'!C19 -> 40x4 | D32: ='VT Oto'!D19 -> SV | E32: ='VT Oto'!E19 -> 272 | F32: 290 | G32: 200
A33: 18 | B33: ='VT Oto'!B20 -> Thép tấm | C33: ='VT Oto'!C20 -> 200x400x5 | D33: ='VT Oto'!D20 -> SV | E33: ='VT Oto'!E20 -> 272 | F33: 290 | G33: 200
A34: 19 | B34: ='VT Oto'!B21 -> Khí CO2 | C34: ='VT Oto'!C21 -> 0 | D34: ='VT Oto'!D21 -> lớp | E34: ='VT Oto'!E21 -> 5 | F34: 290 | G34: 200
A35: 20 | B35: ='VT Oto'!#REF! -> #REF! | C35: ='VT Oto'!#REF! -> #REF! | D35: ='VT Oto'!#REF! -> #REF! | E35: ='VT Oto'!#REF! -> #REF! | F35: 30 | G35: 19
A36: 21 | B36: ='VT Oto'!B22 -> Bec hàn MIG (đồng) | C36: ='VT Oto'!C22 -> 0 | D36: ='VT Oto'!D22 -> lớp | E36: ='VT Oto'!E22 -> 5
A37: 22 | B37: ='VT Oto'!B23 -> Cuộn dây hàn MIG | C37: ='VT Oto'!C23 -> Ф0,8 | D37: ='VT Oto'!D23 -> lớp | E37: ='VT Oto'!E23 -> 5 | I37: Lỗ số 2
A38: 23 | B38: ='VT Oto'!B24 -> Xà bông | C38: ='VT Oto'!C24 -> 0 | D38: ='VT Oto'!D24 -> lớp | E38: ='VT Oto'!E24 -> 5
A39: 24 | B39: ='VT Oto'!B26 -> Búa gỏ sĩ | C39: ='VT Oto'!C26 -> 0 | D39: ='VT Oto'!D26 -> lớp | E39: ='VT Oto'!E26 -> 5
A40: 25 | B40: ='VT Oto'!B27 -> Búa 2kg | C40: ='VT Oto'!C27 -> 0 | D40: ='VT Oto'!D27 -> lớp | E40: ='VT Oto'!E27 -> 5
A41: 26 | B41: ='VT Oto'!B28 -> Đĩa đá cắt | C41: ='VT Oto'!C28 -> 0 | D41: ='VT Oto'!D28 -> lớp | E41: ='VT Oto'!E28 -> 5
A42: 27 | B42: ='VT Oto'!#REF! -> #REF! | C42: ='VT Oto'!#REF! -> #REF! | D42: ='VT Oto'!#REF! -> #REF! | E42: ='VT Oto'!#REF! -> #REF!
H43: Ngày 22 tháng 7 năm 2015
B44: TRƯỞNG BỘ MÔN | H44: NGƯỜI ĐỀ NGHỊ
B48: Trần Đình Khải | H48: Trần Đình Khải

Sheet KL Rieng Thep
A1: TỶ TRỌNG CỦA THÉP VÀ THÉP KHÔNG GỈ
A2: Thép Carbon | B2: 7.85 g/cm3
A3: Inox 201/202/301/302/303/304(L)/305/321 | B3: 7.93 g/cm3
A4: Inox 309S/310S/316(L)/347 | B4: 7.98 g/cm3
A5: Inox 405/410/420 | B5: 7.75 g/cm3
A6: Inox 409/430/434 | B6: 7.70 g/cm3
